BEGIN:VCALENDAR
VERSION:2.0
PRODID:-//Emerald City Softball Association - ECPv6.15.20//NONSGML v1.0//EN
CALSCALE:GREGORIAN
METHOD:PUBLISH
X-WR-CALNAME:Emerald City Softball Association
X-ORIGINAL-URL:https://emeraldcitysoftball.org
X-WR-CALDESC:Events for Emerald City Softball Association
REFRESH-INTERVAL;VALUE=DURATION:PT1H
X-Robots-Tag:noindex
X-PUBLISHED-TTL:PT1H
BEGIN:VTIMEZONE
TZID:America/Denver
BEGIN:DAYLIGHT
TZOFFSETFROM:-0700
TZOFFSETTO:-0600
TZNAME:MDT
DTSTART:20210314T090000
END:DAYLIGHT
BEGIN:STANDARD
TZOFFSETFROM:-0600
TZOFFSETTO:-0700
TZNAME:MST
DTSTART:20211107T080000
END:STANDARD
BEGIN:DAYLIGHT
TZOFFSETFROM:-0700
TZOFFSETTO:-0600
TZNAME:MDT
DTSTART:20220313T090000
END:DAYLIGHT
BEGIN:STANDARD
TZOFFSETFROM:-0600
TZOFFSETTO:-0700
TZNAME:MST
DTSTART:20221106T080000
END:STANDARD
BEGIN:DAYLIGHT
TZOFFSETFROM:-0700
TZOFFSETTO:-0600
TZNAME:MDT
DTSTART:20230312T090000
END:DAYLIGHT
BEGIN:STANDARD
TZOFFSETFROM:-0600
TZOFFSETTO:-0700
TZNAME:MST
DTSTART:20231105T080000
END:STANDARD
END:VTIMEZONE
BEGIN:VEVENT
DTSTART;TZID=America/Denver:20220417T150000
DTEND;TZID=America/Denver:20220417T210000
DTSTAMP:20260421T180522
CREATED:20220330T022756Z
LAST-MODIFIED:20220409T192738Z
UID:3178-1650207600-1650229200@emeraldcitysoftball.org
SUMMARY:2022 Season Opening Day Party
DESCRIPTION:
URL:https://emeraldcitysoftball.org/event/2022-season-opening-ceremony/
LOCATION:The Comeback Seattle\, 1950 1st Ave S\, Seattle\, 98134\, United States
ATTACH;FMTTYPE=image/png:https://emeraldcitysoftball.org/wp-content/uploads/2022/04/ECSA-2022-Opening-Ceremony-2.png
END:VEVENT
END:VCALENDAR