BEGIN:VCALENDAR
VERSION:2.0
PRODID:-//Emerald City Softball Association - ECPv6.15.20//NONSGML v1.0//EN
CALSCALE:GREGORIAN
METHOD:PUBLISH
X-ORIGINAL-URL:https://emeraldcitysoftball.org
X-WR-CALDESC:Events for Emerald City Softball Association
REFRESH-INTERVAL;VALUE=DURATION:PT1H
X-Robots-Tag:noindex
X-PUBLISHED-TTL:PT1H
BEGIN:VTIMEZONE
TZID:America/Los_Angeles
BEGIN:DAYLIGHT
TZOFFSETFROM:-0800
TZOFFSETTO:-0700
TZNAME:PDT
DTSTART:20210314T100000
END:DAYLIGHT
BEGIN:STANDARD
TZOFFSETFROM:-0700
TZOFFSETTO:-0800
TZNAME:PST
DTSTART:20211107T090000
END:STANDARD
BEGIN:DAYLIGHT
TZOFFSETFROM:-0800
TZOFFSETTO:-0700
TZNAME:PDT
DTSTART:20220313T100000
END:DAYLIGHT
BEGIN:STANDARD
TZOFFSETFROM:-0700
TZOFFSETTO:-0800
TZNAME:PST
DTSTART:20221106T090000
END:STANDARD
BEGIN:DAYLIGHT
TZOFFSETFROM:-0800
TZOFFSETTO:-0700
TZNAME:PDT
DTSTART:20230312T100000
END:DAYLIGHT
BEGIN:STANDARD
TZOFFSETFROM:-0700
TZOFFSETTO:-0800
TZNAME:PST
DTSTART:20231105T090000
END:STANDARD
END:VTIMEZONE
BEGIN:VEVENT
DTSTART;TZID=America/Los_Angeles:20220605T150000
DTEND;TZID=America/Los_Angeles:20220605T210000
DTSTAMP:20260421T145308
CREATED:20220412T012533Z
LAST-MODIFIED:20220614T145537Z
UID:3273-1654441200-1654462800@emeraldcitysoftball.org
SUMMARY:Sunday Funday at Madison Pub and Pony
DESCRIPTION:[vc_row][vc_column][vc_column_text]Pony\n1221 E Madison St\, Seattle\, WA 98122[/vc_column_text][/vc_column][/vc_row]
URL:https://emeraldcitysoftball.org/event/sunday-funday-at-rhein-haus-2/
LOCATION:Madison Pub and Pony (address not listed)\, 1315 E Madison St\, Seattle\, 98122
ATTACH;FMTTYPE=image/png:https://emeraldcitysoftball.org/wp-content/uploads/2022/04/1.png
END:VEVENT
BEGIN:VEVENT
DTSTART;TZID=America/Los_Angeles:20220605T150000
DTEND;TZID=America/Los_Angeles:20220605T210000
DTSTAMP:20260421T145308
CREATED:20230329T055746Z
LAST-MODIFIED:20230329T055746Z
UID:3927-1654441200-1654462800@emeraldcitysoftball.org
SUMMARY:Sunday Funday at Madison Pub
DESCRIPTION:[vc_row][vc_column][/vc_column][/vc_row]
URL:https://emeraldcitysoftball.org/event/sunday-funday-at-madison-pub/
LOCATION:Madison Pub and Pony (address not listed)\, 1315 E Madison St\, Seattle\, 98122
ATTACH;FMTTYPE=image/png:https://emeraldcitysoftball.org/wp-content/uploads/2023/03/2.png
END:VEVENT
END:VCALENDAR