BEGIN:VCALENDAR
VERSION:2.0
PRODID:-//Emerald City Softball Association - ECPv6.15.20//NONSGML v1.0//EN
CALSCALE:GREGORIAN
METHOD:PUBLISH
X-ORIGINAL-URL:https://emeraldcitysoftball.org
X-WR-CALDESC:Events for Emerald City Softball Association
REFRESH-INTERVAL;VALUE=DURATION:PT1H
X-Robots-Tag:noindex
X-PUBLISHED-TTL:PT1H
BEGIN:VTIMEZONE
TZID:America/Los_Angeles
BEGIN:DAYLIGHT
TZOFFSETFROM:-0800
TZOFFSETTO:-0700
TZNAME:PDT
DTSTART:20210314T100000
END:DAYLIGHT
BEGIN:STANDARD
TZOFFSETFROM:-0700
TZOFFSETTO:-0800
TZNAME:PST
DTSTART:20211107T090000
END:STANDARD
BEGIN:DAYLIGHT
TZOFFSETFROM:-0800
TZOFFSETTO:-0700
TZNAME:PDT
DTSTART:20220313T100000
END:DAYLIGHT
BEGIN:STANDARD
TZOFFSETFROM:-0700
TZOFFSETTO:-0800
TZNAME:PST
DTSTART:20221106T090000
END:STANDARD
BEGIN:DAYLIGHT
TZOFFSETFROM:-0800
TZOFFSETTO:-0700
TZNAME:PDT
DTSTART:20230312T100000
END:DAYLIGHT
BEGIN:STANDARD
TZOFFSETFROM:-0700
TZOFFSETTO:-0800
TZNAME:PST
DTSTART:20231105T090000
END:STANDARD
END:VTIMEZONE
BEGIN:VEVENT
DTSTART;TZID=America/Los_Angeles:20220724T170000
DTEND;TZID=America/Los_Angeles:20220724T210000
DTSTAMP:20260421T131402
CREATED:20220614T152632Z
LAST-MODIFIED:20220614T154313Z
UID:3441-1658682000-1658696400@emeraldcitysoftball.org
SUMMARY:ECSA 2022 Season Awards Ceremony
DESCRIPTION:
URL:https://emeraldcitysoftball.org/event/ecsa-2022-season-awards-ceremony/
LOCATION:The Comeback Seattle\, 1950 1st Ave S\, Seattle\, 98134\, United States
ATTACH;FMTTYPE=image/png:https://emeraldcitysoftball.org/wp-content/uploads/2022/06/ECSA-2022-Awards-Ceremony-2.png
END:VEVENT
END:VCALENDAR