BEGIN:VCALENDAR
VERSION:2.0
PRODID:-//Emerald City Softball Association - ECPv6.15.20//NONSGML v1.0//EN
CALSCALE:GREGORIAN
METHOD:PUBLISH
X-WR-CALNAME:Emerald City Softball Association
X-ORIGINAL-URL:https://emeraldcitysoftball.org
X-WR-CALDESC:Events for Emerald City Softball Association
REFRESH-INTERVAL;VALUE=DURATION:PT1H
X-Robots-Tag:noindex
X-PUBLISHED-TTL:PT1H
BEGIN:VTIMEZONE
TZID:America/Los_Angeles
BEGIN:DAYLIGHT
TZOFFSETFROM:-0800
TZOFFSETTO:-0700
TZNAME:PDT
DTSTART:20210314T100000
END:DAYLIGHT
BEGIN:STANDARD
TZOFFSETFROM:-0700
TZOFFSETTO:-0800
TZNAME:PST
DTSTART:20211107T090000
END:STANDARD
BEGIN:DAYLIGHT
TZOFFSETFROM:-0800
TZOFFSETTO:-0700
TZNAME:PDT
DTSTART:20220313T100000
END:DAYLIGHT
BEGIN:STANDARD
TZOFFSETFROM:-0700
TZOFFSETTO:-0800
TZNAME:PST
DTSTART:20221106T090000
END:STANDARD
BEGIN:DAYLIGHT
TZOFFSETFROM:-0800
TZOFFSETTO:-0700
TZNAME:PDT
DTSTART:20230312T100000
END:DAYLIGHT
BEGIN:STANDARD
TZOFFSETFROM:-0700
TZOFFSETTO:-0800
TZNAME:PST
DTSTART:20231105T090000
END:STANDARD
END:VTIMEZONE
BEGIN:VEVENT
DTSTART;TZID=America/Los_Angeles:20220605T150000
DTEND;TZID=America/Los_Angeles:20220605T210000
DTSTAMP:20260421T131115
CREATED:20220412T012533Z
LAST-MODIFIED:20220614T145537Z
UID:3273-1654441200-1654462800@emeraldcitysoftball.org
SUMMARY:Sunday Funday at Madison Pub and Pony
DESCRIPTION:[vc_row][vc_column][vc_column_text]Pony\n1221 E Madison St\, Seattle\, WA 98122[/vc_column_text][/vc_column][/vc_row]
URL:https://emeraldcitysoftball.org/event/sunday-funday-at-rhein-haus-2/
LOCATION:Madison Pub and Pony (address not listed)\, 1315 E Madison St\, Seattle\, 98122
ATTACH;FMTTYPE=image/png:https://emeraldcitysoftball.org/wp-content/uploads/2022/04/1.png
END:VEVENT
BEGIN:VEVENT
DTSTART;TZID=America/Los_Angeles:20220605T150000
DTEND;TZID=America/Los_Angeles:20220605T210000
DTSTAMP:20260421T131115
CREATED:20230329T055746Z
LAST-MODIFIED:20230329T055746Z
UID:3927-1654441200-1654462800@emeraldcitysoftball.org
SUMMARY:Sunday Funday at Madison Pub
DESCRIPTION:[vc_row][vc_column][/vc_column][/vc_row]
URL:https://emeraldcitysoftball.org/event/sunday-funday-at-madison-pub/
LOCATION:Madison Pub and Pony (address not listed)\, 1315 E Madison St\, Seattle\, 98122
ATTACH;FMTTYPE=image/png:https://emeraldcitysoftball.org/wp-content/uploads/2023/03/2.png
END:VEVENT
BEGIN:VEVENT
DTSTART;TZID=America/Los_Angeles:20220612T150000
DTEND;TZID=America/Los_Angeles:20220612T210000
DTSTAMP:20260421T131115
CREATED:20220412T013025Z
LAST-MODIFIED:20220602T021342Z
UID:3278-1655046000-1655067600@emeraldcitysoftball.org
SUMMARY:Sunday Funday at Diesel
DESCRIPTION:
URL:https://emeraldcitysoftball.org/event/sunday-funday-at-pony/
LOCATION:Diesel\, 1413 14th Ave\, Seattle\, 98122
ATTACH;FMTTYPE=image/png:https://emeraldcitysoftball.org/wp-content/uploads/2022/04/2.png
END:VEVENT
BEGIN:VEVENT
DTSTART;TZID=America/Los_Angeles:20220618T150000
DTEND;TZID=America/Los_Angeles:20220618T210000
DTSTAMP:20260421T131115
CREATED:20220602T021553Z
LAST-MODIFIED:20220609T154549Z
UID:3373-1655564400-1655586000@emeraldcitysoftball.org
SUMMARY:Saturday Funday at The Comeback
DESCRIPTION:
URL:https://emeraldcitysoftball.org/event/sunday-funday-at-the-comeback/
LOCATION:The Comeback Seattle\, 1950 1st Ave S\, Seattle\, 98134\, United States
ATTACH;FMTTYPE=image/png:https://emeraldcitysoftball.org/wp-content/uploads/2022/06/Copy-of-ECSA-2022-Opening-Ceremony-2.png
END:VEVENT
BEGIN:VEVENT
DTSTART;TZID=America/Los_Angeles:20220619T150000
DTEND;TZID=America/Los_Angeles:20220619T210000
DTSTAMP:20260421T131115
CREATED:20220602T172018Z
LAST-MODIFIED:20220609T145305Z
UID:3377-1655650800-1655672400@emeraldcitysoftball.org
SUMMARY:Season Ending Party at Union
DESCRIPTION:
URL:https://emeraldcitysoftball.org/event/sunday-funday-at-union-2/
LOCATION:Union Seattle\, 1009 E Union St Suite C\, Seattle\, WA\, 98122\, United States
ATTACH;FMTTYPE=image/png:https://emeraldcitysoftball.org/wp-content/uploads/2022/06/Copy-of-Kickoff_Party_Union-2022-Instagram-Story-Twitter-Post-2.png
END:VEVENT
BEGIN:VEVENT
DTSTART;TZID=America/Los_Angeles:20220625T120000
DTEND;TZID=America/Los_Angeles:20220625T200000
DTSTAMP:20260421T131115
CREATED:20220609T164800Z
LAST-MODIFIED:20220614T145218Z
UID:3429-1656158400-1656187200@emeraldcitysoftball.org
SUMMARY:Pridefest Capitol Hill - ECSA Booth
DESCRIPTION:[vc_row][vc_column][vc_column_text]The ECSA will have a booth at Pridefest and will be selling limited ECSA Pride hats for $30! Get yours before it is sold out![/vc_column_text][/vc_column][/vc_row]
URL:https://emeraldcitysoftball.org/event/pridefest-capitol-hill-ecsa-booth/
LOCATION:Pridefest – Capitol Hill\, 1122 E Pike St\, Seattle\, WA\, 98122
ATTACH;FMTTYPE=image/png:https://emeraldcitysoftball.org/wp-content/uploads/2022/06/1-2.png
END:VEVENT
BEGIN:VEVENT
DTSTART;TZID=America/Los_Angeles:20220626T110000
DTEND;TZID=America/Los_Angeles:20220626T150000
DTSTAMP:20260421T131115
CREATED:20220609T160241Z
LAST-MODIFIED:20220614T144902Z
UID:3423-1656241200-1656255600@emeraldcitysoftball.org
SUMMARY:Seattle Pride Parade
DESCRIPTION:[vc_row][vc_column][vc_column_text] \nSunday June 26\, 2022 ⋮ 11:00AM – 3:00PM\n4th Ave\, Downtown Seattle\nStarts at 4th & Pike → Ends at 2nd Ave & Denny Way[/vc_column_text][/vc_column][/vc_row]
URL:https://emeraldcitysoftball.org/event/seattle-pride-parade/
LOCATION:Downtown Seattle
ATTACH;FMTTYPE=image/png:https://emeraldcitysoftball.org/wp-content/uploads/2022/06/2-1.png
END:VEVENT
END:VCALENDAR